View In:
ArcGIS JavaScript
ArcGIS Online Map Viewer
ArcGIS Earth
ArcMap
View Footprint In:
ArcGIS Online Map Viewer
Service Description: Energy_Mineral/gravityapp_CompleteBougerGravityAnomaly
Name: Energy_Mineral/gravityapp_CompleteBougerGravityAnomaly
Description:
Single Fused Map Cache: false
Extent:
XMin: -1.2803175054817103E7
YMin: 4299406.09043327
XMax: -1.2021126198787032E7
YMax: 5312262.816483945
Spatial Reference: 102100
(3857)
Initial Extent:
XMin: -1.2803175054817103E7
YMin: 4299406.09043327
XMax: -1.2021126198787032E7
YMax: 5312262.816483945
Spatial Reference: 102100
(3857)
Full Extent:
XMin: -1.2803175054817103E7
YMin: 4299406.09043327
XMax: -1.2021126198787032E7
YMax: 5312262.816483945
Spatial Reference: 102100
(3857)
Pixel Size X: 3115.7324941437096
Pixel Size Y: 3116.4822340020764
Band Count: 1
Pixel Type: F32
RasterFunction Infos: {"rasterFunctionInfos": [
{
"name": "CompleteBouger_NEW",
"description": "bouger",
"help": ""
},
{
"name": "None",
"description": "",
"help": ""
}
]}
Mensuration Capabilities: Basic
Has Histograms: true
Has Colormap: false
Has Multi Dimensions : false
Rendering Rule:
Min Scale: 0
Max Scale: 0
Copyright Text:
Service Data Type: esriImageServiceDataTypeGeneric
Min Values: -298.27325439453125
Max Values: -81.40359497070312
Mean Values: -199.3661709242133
Standard Deviation Values: 32.425052190599374
Object ID Field:
Fields:
None
Default Mosaic Method: Center
Allowed Mosaic Methods:
SortField:
SortValue: null
Mosaic Operator: First
Default Compression Quality: 75
Default Resampling Method: Bilinear
Max Record Count: null
Max Image Height: 4100
Max Image Width: 15000
Max Download Image Count: null
Max Mosaic Image Count: null
Allow Raster Function: true
Allow Copy: true
Allow Analysis: true
Allow Compute TiePoints: false
Supports Statistics: false
Supports Advanced Queries: false
Use StandardizedQueries: true
Raster Type Infos:
Name: Raster Dataset
Description: Supports all ArcGIS Raster Datasets
Help:
Has Raster Attribute Table: false
Edit Fields Info: null
Ownership Based AccessControl For Rasters: null
Child Resources:
Info
Histograms
Statistics
Key Properties
Legend
Raster Function Infos
Supported Operations:
Export Image
Identify
Measure
Compute Histograms
Compute Statistics Histograms
Get Samples
Compute Class Statistics
Query Boundary
Compute Pixel Location
Compute Angles
Validate
Project