{
 "currentVersion": 10.91,
 "serviceDescription": "",
 "mapName": "Layers",
 "description": "",
 "copyrightText": "",
 "supportsDynamicLayers": true,
 "layers": [
  {
   "id": 1699,
   "name": "CentralMineralMountains_MP17-2DM",
   "parentLayerId": -1,
   "defaultVisibility": true,
   "subLayerIds": [
    1721,
    1719,
    1720,
    1700,
    1702,
    1707,
    1708,
    1709,
    1722,
    1703
   ],
   "minScale": 0,
   "maxScale": 0,
   "type": "Group Layer"
  },
  {
   "id": 1721,
   "name": "CentralMineralMountains_Boundary",
   "parentLayerId": 1699,
   "defaultVisibility": true,
   "subLayerIds": null,
   "minScale": 288895.277144,
   "maxScale": 0,
   "type": "Feature Layer",
   "geometryType": "esriGeometryPolyline"
  },
  {
   "id": 1719,
   "name": "CentralMineralMountains_GeologicFeatures_labels",
   "parentLayerId": 1699,
   "defaultVisibility": true,
   "subLayerIds": [
    1710,
    1711,
    1712,
    1713,
    1714,
    1715,
    1716,
    1717,
    1718
   ],
   "minScale": 288895.277144,
   "maxScale": 0,
   "type": "Annotation Layer",
   "geometryType": "esriGeometryPolygon"
  },
  {
   "id": 1710,
   "name": "Structure contour_Datum1 labels",
   "parentLayerId": 1719,
   "defaultVisibility": true,
   "subLayerIds": null,
   "minScale": 0,
   "maxScale": 0
  },
  {
   "id": 1711,
   "name": "Bedding labels",
   "parentLayerId": 1719,
   "defaultVisibility": true,
   "subLayerIds": null,
   "minScale": 0,
   "maxScale": 0
  },
  {
   "id": 1712,
   "name": "Cross section labels",
   "parentLayerId": 1719,
   "defaultVisibility": true,
   "subLayerIds": null,
   "minScale": 0,
   "maxScale": 0
  },
  {
   "id": 1713,
   "name": "Fault labels",
   "parentLayerId": 1719,
   "defaultVisibility": true,
   "subLayerIds": null,
   "minScale": 0,
   "maxScale": 0
  },
  {
   "id": 1714,
   "name": "Sample labels",
   "parentLayerId": 1719,
   "defaultVisibility": true,
   "subLayerIds": null,
   "minScale": 0,
   "maxScale": 0
  },
  {
   "id": 1715,
   "name": "Other labels",
   "parentLayerId": 1719,
   "defaultVisibility": true,
   "subLayerIds": null,
   "minScale": 0,
   "maxScale": 0
  },
  {
   "id": 1716,
   "name": "Structureline labels",
   "parentLayerId": 1719,
   "defaultVisibility": true,
   "subLayerIds": null,
   "minScale": 0,
   "maxScale": 0
  },
  {
   "id": 1717,
   "name": "Structure contour_Datum2 labels",
   "parentLayerId": 1719,
   "defaultVisibility": true,
   "subLayerIds": null,
   "minScale": 0,
   "maxScale": 0
  },
  {
   "id": 1718,
   "name": "Shoreline labels",
   "parentLayerId": 1719,
   "defaultVisibility": true,
   "subLayerIds": null,
   "minScale": 0,
   "maxScale": 0
  },
  {
   "id": 1720,
   "name": "CentralMineralMountains_CrossSectionLines",
   "parentLayerId": 1699,
   "defaultVisibility": true,
   "subLayerIds": null,
   "minScale": 288895.277144,
   "maxScale": 0,
   "type": "Feature Layer",
   "geometryType": "esriGeometryPolyline"
  },
  {
   "id": 1700,
   "name": "CentralMineralMountains_GeologicUnits_leaders",
   "parentLayerId": 1699,
   "defaultVisibility": true,
   "subLayerIds": null,
   "minScale": 288895.277144,
   "maxScale": 0,
   "type": "Feature Layer",
   "geometryType": "esriGeometryPolyline"
  },
  {
   "id": 1702,
   "name": "CentralMineralMountains_GeologicUnits_labels",
   "parentLayerId": 1699,
   "defaultVisibility": true,
   "subLayerIds": [
    1701
   ],
   "minScale": 288895.277144,
   "maxScale": 0,
   "type": "Annotation Layer",
   "geometryType": "esriGeometryPolygon"
  },
  {
   "id": 1701,
   "name": "Unit labels",
   "parentLayerId": 1702,
   "defaultVisibility": true,
   "subLayerIds": null,
   "minScale": 0,
   "maxScale": 0
  },
  {
   "id": 1707,
   "name": "CentralMineralMountains_GeologicSymbols_labels",
   "parentLayerId": 1699,
   "defaultVisibility": true,
   "subLayerIds": [
    1704,
    1705,
    1706
   ],
   "minScale": 288895.277144,
   "maxScale": 0,
   "type": "Annotation Layer",
   "geometryType": "esriGeometryPolygon"
  },
  {
   "id": 1704,
   "name": "Default",
   "parentLayerId": 1707,
   "defaultVisibility": true,
   "subLayerIds": null,
   "minScale": 0,
   "maxScale": 0
  },
  {
   "id": 1705,
   "name": "FeatureID",
   "parentLayerId": 1707,
   "defaultVisibility": true,
   "subLayerIds": null,
   "minScale": 0,
   "maxScale": 0
  },
  {
   "id": 1706,
   "name": "DipAngle",
   "parentLayerId": 1707,
   "defaultVisibility": true,
   "subLayerIds": null,
   "minScale": 0,
   "maxScale": 0
  },
  {
   "id": 1708,
   "name": "CentralMineralMountains_GeologicSymbols",
   "parentLayerId": 1699,
   "defaultVisibility": true,
   "subLayerIds": null,
   "minScale": 288895.277144,
   "maxScale": 0,
   "type": "Feature Layer",
   "geometryType": "esriGeometryPoint"
  },
  {
   "id": 1709,
   "name": "CentralMineralMountains_GeologicLines",
   "parentLayerId": 1699,
   "defaultVisibility": true,
   "subLayerIds": null,
   "minScale": 288895.277144,
   "maxScale": 0,
   "type": "Feature Layer",
   "geometryType": "esriGeometryPolyline"
  },
  {
   "id": 1722,
   "name": "CentralMineralMountains_AlterationAreas",
   "parentLayerId": 1699,
   "defaultVisibility": true,
   "subLayerIds": null,
   "minScale": 288895.277144,
   "maxScale": 0,
   "type": "Feature Layer",
   "geometryType": "esriGeometryPolygon"
  },
  {
   "id": 1703,
   "name": "Geologic Units",
   "parentLayerId": 1699,
   "defaultVisibility": true,
   "subLayerIds": null,
   "minScale": 0,
   "maxScale": 0,
   "type": "Feature Layer",
   "geometryType": "esriGeometryPolygon"
  },
  {
   "id": 1623,
   "name": "SLC Watatch FZ M-243dm",
   "parentLayerId": -1,
   "defaultVisibility": true,
   "subLayerIds": [
    1609,
    1610,
    1611,
    1617,
    1620,
    1621,
    1622
   ],
   "minScale": 0,
   "maxScale": 0,
   "type": "Group Layer"
  },
  {
   "id": 1609,
   "name": "Figures_Text",
   "parentLayerId": 1623,
   "defaultVisibility": true,
   "subLayerIds": [
    1608
   ],
   "minScale": 288895.277144,
   "maxScale": 0,
   "type": "Annotation Layer",
   "geometryType": "esriGeometryPolygon"
  },
  {
   "id": 1608,
   "name": "Annotation Class 1",
   "parentLayerId": 1609,
   "defaultVisibility": true,
   "subLayerIds": null,
   "minScale": 0,
   "maxScale": 0
  },
  {
   "id": 1610,
   "name": "Figures_Bnd",
   "parentLayerId": 1623,
   "defaultVisibility": true,
   "subLayerIds": null,
   "minScale": 288895.277144,
   "maxScale": 0,
   "type": "Feature Layer",
   "geometryType": "esriGeometryPolyline"
  },
  {
   "id": 1611,
   "name": "Geologic-Label Leaders",
   "parentLayerId": 1623,
   "defaultVisibility": true,
   "subLayerIds": null,
   "minScale": 288895.277144,
   "maxScale": 0,
   "type": "Feature Layer",
   "geometryType": "esriGeometryPolyline"
  },
  {
   "id": 1617,
   "name": "Geologic Labels",
   "parentLayerId": 1623,
   "defaultVisibility": true,
   "subLayerIds": [
    1612,
    1613,
    1614,
    1615,
    1616
   ],
   "minScale": 288895.277144,
   "maxScale": 0,
   "type": "Annotation Layer",
   "geometryType": "esriGeometryPolygon"
  },
  {
   "id": 1612,
   "name": "Faults",
   "parentLayerId": 1617,
   "defaultVisibility": true,
   "subLayerIds": null,
   "minScale": 0,
   "maxScale": 0
  },
  {
   "id": 1613,
   "name": "General",
   "parentLayerId": 1617,
   "defaultVisibility": true,
   "subLayerIds": null,
   "minScale": 0,
   "maxScale": 0
  },
  {
   "id": 1614,
   "name": "Geounits",
   "parentLayerId": 1617,
   "defaultVisibility": true,
   "subLayerIds": null,
   "minScale": 0,
   "maxScale": 0
  },
  {
   "id": 1615,
   "name": "Scarp_pts",
   "parentLayerId": 1617,
   "defaultVisibility": true,
   "subLayerIds": null,
   "minScale": 0,
   "maxScale": 0
  },
  {
   "id": 1616,
   "name": "Trenches",
   "parentLayerId": 1617,
   "defaultVisibility": true,
   "subLayerIds": null,
   "minScale": 0,
   "maxScale": 0
  },
  {
   "id": 1620,
   "name": "Geologic Symbols",
   "parentLayerId": 1623,
   "defaultVisibility": true,
   "subLayerIds": [
    1618,
    1619
   ],
   "minScale": 288895.277144,
   "maxScale": 0,
   "type": "Group Layer"
  },
  {
   "id": 1618,
   "name": "Geologic Symbols, lines",
   "parentLayerId": 1620,
   "defaultVisibility": true,
   "subLayerIds": null,
   "minScale": 0,
   "maxScale": 0,
   "type": "Feature Layer",
   "geometryType": "esriGeometryPolyline"
  },
  {
   "id": 1619,
   "name": "Geologic Symbols, polygones",
   "parentLayerId": 1620,
   "defaultVisibility": true,
   "subLayerIds": null,
   "minScale": 0,
   "maxScale": 0,
   "type": "Feature Layer",
   "geometryType": "esriGeometryPolygon"
  },
  {
   "id": 1621,
   "name": "Geologic Lines",
   "parentLayerId": 1623,
   "defaultVisibility": true,
   "subLayerIds": null,
   "minScale": 288895.277144,
   "maxScale": 0,
   "type": "Feature Layer",
   "geometryType": "esriGeometryPolyline"
  },
  {
   "id": 1622,
   "name": "Geologic Units",
   "parentLayerId": 1623,
   "defaultVisibility": true,
   "subLayerIds": null,
   "minScale": 0,
   "maxScale": 0,
   "type": "Feature Layer",
   "geometryType": "esriGeometryPolygon"
  },
  {
   "id": 1527,
   "name": "Lees Ferry MP-09-2dm",
   "parentLayerId": -1,
   "defaultVisibility": true,
   "subLayerIds": [
    1509,
    1518,
    1519,
    1520,
    1521,
    1522,
    1523,
    1524,
    1525,
    1526
   ],
   "minScale": 0,
   "maxScale": 0,
   "type": "Group Layer"
  },
  {
   "id": 1509,
   "name": "Geologic-Unit Labels",
   "parentLayerId": 1527,
   "defaultVisibility": true,
   "subLayerIds": [
    1508
   ],
   "minScale": 288895.277144,
   "maxScale": 0,
   "type": "Annotation Layer",
   "geometryType": "esriGeometryPolygon"
  },
  {
   "id": 1508,
   "name": "Default",
   "parentLayerId": 1509,
   "defaultVisibility": true,
   "subLayerIds": null,
   "minScale": 0,
   "maxScale": 0
  },
  {
   "id": 1518,
   "name": "Map Labels",
   "parentLayerId": 1527,
   "defaultVisibility": true,
   "subLayerIds": [
    1510,
    1511,
    1512,
    1513,
    1514,
    1515,
    1516,
    1517
   ],
   "minScale": 288895.277144,
   "maxScale": 0,
   "type": "Annotation Layer",
   "geometryType": "esriGeometryPolygon"
  },
  {
   "id": 1510,
   "name": "FaultLabel",
   "parentLayerId": 1518,
   "defaultVisibility": true,
   "subLayerIds": null,
   "minScale": 0,
   "maxScale": 0
  },
  {
   "id": 1511,
   "name": "FoldLabel",
   "parentLayerId": 1518,
   "defaultVisibility": true,
   "subLayerIds": null,
   "minScale": 0,
   "maxScale": 0
  },
  {
   "id": 1512,
   "name": "VeinLabel",
   "parentLayerId": 1518,
   "defaultVisibility": true,
   "subLayerIds": null,
   "minScale": 0,
   "maxScale": 0
  },
  {
   "id": 1513,
   "name": "BedAttitudeLabel",
   "parentLayerId": 1518,
   "defaultVisibility": true,
   "subLayerIds": null,
   "minScale": 0,
   "maxScale": 0
  },
  {
   "id": 1514,
   "name": "JointAttitudeLabel",
   "parentLayerId": 1518,
   "defaultVisibility": true,
   "subLayerIds": null,
   "minScale": 0,
   "maxScale": 0
  },
  {
   "id": 1515,
   "name": "StructureContLabel",
   "parentLayerId": 1518,
   "defaultVisibility": true,
   "subLayerIds": null,
   "minScale": 0,
   "maxScale": 0
  },
  {
   "id": 1516,
   "name": "XsecLabel",
   "parentLayerId": 1518,
   "defaultVisibility": true,
   "subLayerIds": null,
   "minScale": 0,
   "maxScale": 0
  },
  {
   "id": 1517,
   "name": "RefLabel",
   "parentLayerId": 1518,
   "defaultVisibility": false,
   "subLayerIds": null,
   "minScale": 0,
   "maxScale": 0
  },
  {
   "id": 1519,
   "name": "Edge of Triassic Paleochannel",
   "parentLayerId": 1527,
   "defaultVisibility": true,
   "subLayerIds": null,
   "minScale": 288895.277144,
   "maxScale": 0,
   "type": "Feature Layer",
   "geometryType": "esriGeometryPolyline"
  },
  {
   "id": 1520,
   "name": "Map Symbols",
   "parentLayerId": 1527,
   "defaultVisibility": true,
   "subLayerIds": null,
   "minScale": 288895.277144,
   "maxScale": 0,
   "type": "Feature Layer",
   "geometryType": "esriGeometryPolyline"
  },
  {
   "id": 1521,
   "name": "Fold Axes",
   "parentLayerId": 1527,
   "defaultVisibility": true,
   "subLayerIds": null,
   "minScale": 288895.277144,
   "maxScale": 0,
   "type": "Feature Layer",
   "geometryType": "esriGeometryPolyline"
  },
  {
   "id": 1522,
   "name": "Cross-Section Lines",
   "parentLayerId": 1527,
   "defaultVisibility": true,
   "subLayerIds": null,
   "minScale": 288895.277144,
   "maxScale": 0,
   "type": "Feature Layer",
   "geometryType": "esriGeometryPolyline"
  },
  {
   "id": 1523,
   "name": "Glen Canyon NRA Boundary",
   "parentLayerId": 1527,
   "defaultVisibility": true,
   "subLayerIds": null,
   "minScale": 288895.277144,
   "maxScale": 0,
   "type": "Feature Layer",
   "geometryType": "esriGeometryPolyline"
  },
  {
   "id": 1524,
   "name": "Structure Contours",
   "parentLayerId": 1527,
   "defaultVisibility": true,
   "subLayerIds": null,
   "minScale": 288895.277144,
   "maxScale": 0,
   "type": "Feature Layer",
   "geometryType": "esriGeometryPolyline"
  },
  {
   "id": 1525,
   "name": "Geologic Lines",
   "parentLayerId": 1527,
   "defaultVisibility": true,
   "subLayerIds": null,
   "minScale": 288895.277144,
   "maxScale": 0,
   "type": "Feature Layer",
   "geometryType": "esriGeometryPolyline"
  },
  {
   "id": 1526,
   "name": "Geologic Units",
   "parentLayerId": 1527,
   "defaultVisibility": true,
   "subLayerIds": null,
   "minScale": 0,
   "maxScale": 0,
   "type": "Feature Layer",
   "geometryType": "esriGeometryPolygon"
  },
  {
   "id": 1507,
   "name": "Uinta Glacial MP-09-4dm",
   "parentLayerId": -1,
   "defaultVisibility": true,
   "subLayerIds": [
    1494,
    1498,
    1499,
    1500,
    1501,
    1502,
    1503,
    1504,
    1505,
    1506
   ],
   "minScale": 0,
   "maxScale": 0,
   "type": "Group Layer"
  },
  {
   "id": 1494,
   "name": "UnitLabels",
   "parentLayerId": 1507,
   "defaultVisibility": true,
   "subLayerIds": [
    1493
   ],
   "minScale": 288895.277144,
   "maxScale": 0,
   "type": "Annotation Layer",
   "geometryType": "esriGeometryPolygon"
  },
  {
   "id": 1493,
   "name": "Unit labels",
   "parentLayerId": 1494,
   "defaultVisibility": true,
   "subLayerIds": null,
   "minScale": 0,
   "maxScale": 0
  },
  {
   "id": 1498,
   "name": "Feature Labels",
   "parentLayerId": 1507,
   "defaultVisibility": true,
   "subLayerIds": [
    1495,
    1496,
    1497
   ],
   "minScale": 288895.277144,
   "maxScale": 0,
   "type": "Annotation Layer",
   "geometryType": "esriGeometryPolygon"
  },
  {
   "id": 1495,
   "name": "Sample Labels",
   "parentLayerId": 1498,
   "defaultVisibility": true,
   "subLayerIds": null,
   "minScale": 0,
   "maxScale": 0
  },
  {
   "id": 1496,
   "name": "Graticules",
   "parentLayerId": 1498,
   "defaultVisibility": false,
   "subLayerIds": null,
   "minScale": 0,
   "maxScale": 0
  },
  {
   "id": 1497,
   "name": "Water Lables",
   "parentLayerId": 1498,
   "defaultVisibility": true,
   "subLayerIds": null,
   "minScale": 0,
   "maxScale": 0
  },
  {
   "id": 1499,
   "name": "CMD Sample Locations",
   "parentLayerId": 1507,
   "defaultVisibility": true,
   "subLayerIds": null,
   "minScale": 288895.277144,
   "maxScale": 0,
   "type": "Feature Layer",
   "geometryType": "esriGeometryPoint"
  },
  {
   "id": 1500,
   "name": "Unit Leader Lines",
   "parentLayerId": 1507,
   "defaultVisibility": true,
   "subLayerIds": null,
   "minScale": 288895.277144,
   "maxScale": 0,
   "type": "Feature Layer",
   "geometryType": "esriGeometryPolyline"
  },
  {
   "id": 1501,
   "name": "Feature Leader Lines",
   "parentLayerId": 1507,
   "defaultVisibility": true,
   "subLayerIds": null,
   "minScale": 288895.277144,
   "maxScale": 0,
   "type": "Feature Layer",
   "geometryType": "esriGeometryPolyline"
  },
  {
   "id": 1502,
   "name": "Glacial Features",
   "parentLayerId": 1507,
   "defaultVisibility": true,
   "subLayerIds": null,
   "minScale": 288895.277144,
   "maxScale": 0,
   "type": "Feature Layer",
   "geometryType": "esriGeometryPolyline"
  },
  {
   "id": 1503,
   "name": "Lakes",
   "parentLayerId": 1507,
   "defaultVisibility": true,
   "subLayerIds": null,
   "minScale": 288895.277144,
   "maxScale": 0,
   "type": "Feature Layer",
   "geometryType": "esriGeometryPolygon"
  },
  {
   "id": 1504,
   "name": "Glacial Contacts",
   "parentLayerId": 1507,
   "defaultVisibility": true,
   "subLayerIds": null,
   "minScale": 288895.277144,
   "maxScale": 0,
   "type": "Feature Layer",
   "geometryType": "esriGeometryPolyline"
  },
  {
   "id": 1505,
   "name": "Map Boundary",
   "parentLayerId": 1507,
   "defaultVisibility": true,
   "subLayerIds": null,
   "minScale": 288895.277144,
   "maxScale": 0,
   "type": "Feature Layer",
   "geometryType": "esriGeometryPolygon"
  },
  {
   "id": 1506,
   "name": "Geologic Units",
   "parentLayerId": 1507,
   "defaultVisibility": true,
   "subLayerIds": null,
   "minScale": 0,
   "maxScale": 0,
   "type": "Feature Layer",
   "geometryType": "esriGeometryPolygon"
  }
 ],
 "tables": [],
 "spatialReference": {
  "wkid": 102100,
  "latestWkid": 3857
 },
 "singleFusedMapCache": true,
 "tileInfo": {
  "rows": 256,
  "cols": 256,
  "dpi": 96,
  "format": "PNG",
  "compressionQuality": 0,
  "origin": {
   "x": -2.0037508342787E7,
   "y": 2.0037508342787E7
  },
  "spatialReference": {
   "wkid": 102100,
   "latestWkid": 3857
  },
  "lods": [
   {
    "level": 0,
    "resolution": 156543.03392800014,
    "scale": 5.91657527591555E8
   },
   {
    "level": 1,
    "resolution": 78271.51696399994,
    "scale": 2.95828763795777E8
   },
   {
    "level": 2,
    "resolution": 39135.75848200009,
    "scale": 1.47914381897889E8
   },
   {
    "level": 3,
    "resolution": 19567.87924099992,
    "scale": 7.3957190948944E7
   },
   {
    "level": 4,
    "resolution": 9783.93962049996,
    "scale": 3.6978595474472E7
   },
   {
    "level": 5,
    "resolution": 4891.96981024998,
    "scale": 1.8489297737236E7
   },
   {
    "level": 6,
    "resolution": 2445.98490512499,
    "scale": 9244648.868618
   },
   {
    "level": 7,
    "resolution": 1222.992452562495,
    "scale": 4622324.434309
   },
   {
    "level": 8,
    "resolution": 611.4962262813797,
    "scale": 2311162.217155
   },
   {
    "level": 9,
    "resolution": 305.74811314055756,
    "scale": 1155581.108577
   },
   {
    "level": 10,
    "resolution": 152.87405657041106,
    "scale": 577790.554289
   },
   {
    "level": 11,
    "resolution": 76.43702828507324,
    "scale": 288895.277144
   },
   {
    "level": 12,
    "resolution": 38.21851414253662,
    "scale": 144447.638572
   },
   {
    "level": 13,
    "resolution": 19.10925707126831,
    "scale": 72223.819286
   },
   {
    "level": 14,
    "resolution": 9.554628535634155,
    "scale": 36111.909643
   },
   {
    "level": 15,
    "resolution": 4.77731426794937,
    "scale": 18055.954822
   },
   {
    "level": 16,
    "resolution": 2.388657133974685,
    "scale": 9027.977411
   },
   {
    "level": 17,
    "resolution": 1.1943285668550503,
    "scale": 4513.988705
   },
   {
    "level": 18,
    "resolution": 0.5971642835598172,
    "scale": 2256.994353
   },
   {
    "level": 19,
    "resolution": 0.29858214164761665,
    "scale": 1128.497176
   }
  ]
 },
 "initialExtent": {
  "xmin": -1.271483131042259E7,
  "ymin": 4678467.101739785,
  "xmax": -1.2016861051317198E7,
  "ymax": 5054297.241258072,
  "spatialReference": {
   "cs": "pcs",
   "wkid": 102100
  }
 },
 "fullExtent": {
  "xmin": -1.25709423121E7,
  "ymin": 4409970.471600004,
  "xmax": -1.2202935065299999E7,
  "ymax": 5031333.7632,
  "spatialReference": {
   "cs": "pcs",
   "wkid": 102100
  }
 },
 "minScale": 4622324.434309,
 "maxScale": 18055.954822,
 "units": "esriMeters",
 "supportedImageFormatTypes": "PNG32,PNG24,PNG,JPG,DIB,TIFF,EMF,PS,PDF,GIF,SVG,SVGZ,BMP",
 "documentInfo": {
  "Title": "",
  "Author": "",
  "Comments": "",
  "Subject": "Other Quads Mosaic Map",
  "Category": "",
  "AntialiasingMode": "None",
  "TextAntialiasingMode": "Force",
  "Keywords": "geology,utah"
 },
 "capabilities": "Map,Query,Data",
 "supportedQueryFormats": "JSON, geoJSON",
 "exportTilesAllowed": false,
 "referenceScale": 36111.909643,
 "supportsDatumTransformation": true,
 "maxRecordCount": 1000,
 "maxImageHeight": 4096,
 "maxImageWidth": 4096,
 "supportedExtensions": ""
}
