{
 "currentVersion": 10.91,
 "serviceDescription": "Hazards/GroundshakingRaster",
 "name": "Hazards/GroundshakingRaster",
 "description": "",
 "extent": {
  "xmin": 208043.63461120083,
  "ymin": 4075340.3275290458,
  "xmax": 693706.8749689107,
  "ymax": 4674324.990636936,
  "spatialReference": {
   "wkid": 26912,
   "latestWkid": 26912
  }
 },
 "initialExtent": {
  "xmin": 208043.63461120083,
  "ymin": 4075340.3275290458,
  "xmax": 693706.8749689107,
  "ymax": 4674324.990636936,
  "spatialReference": {
   "wkid": 26912,
   "latestWkid": 26912
  }
 },
 "fullExtent": {
  "xmin": 208043.63461120083,
  "ymin": 4075340.3275290458,
  "xmax": 693706.8749689107,
  "ymax": 4674324.990636936,
  "spatialReference": {
   "wkid": 26912,
   "latestWkid": 26912
  }
 },
 "pixelSizeX": 5396.258226196776,
 "pixelSizeY": 5396.258226197213,
 "bandCount": 1,
 "pixelType": "F64",
 "minPixelSize": 0,
 "maxPixelSize": 0,
 "copyrightText": "",
 "serviceDataType": "esriImageServiceDataTypeGeneric",
 "minValues": [
  0.0767932
 ],
 "maxValues": [
  0.832107
 ],
 "meanValues": [
  0.22095955201944154
 ],
 "stdvValues": [
  0.10070388786905003
 ],
 "objectIdField": "",
 "fields": [],
 "capabilities": "Image,Metadata,Mensuration",
 "defaultMosaicMethod": "Center",
 "allowedMosaicMethods": "",
 "sortField": "",
 "sortValue": null,
 "sortAscending": true,
 "mosaicOperator": "First",
 "defaultCompressionQuality": 75,
 "defaultResamplingMethod": "Bilinear",
 "maxImageHeight": 4100,
 "maxImageWidth": 15000,
 "allowRasterFunction": true,
 "rasterFunctionInfos": [
  {
   "name": "None",
   "description": "",
   "help": ""
  }
 ],
 "rasterTypeInfos": [
  {
   "name": "Raster Dataset",
   "description": "Supports all ArcGIS Raster Datasets",
   "help": ""
  }
 ],
 "mensurationCapabilities": "Basic",
 "hasHistograms": true,
 "hasColormap": false,
 "hasRasterAttributeTable": false,
 "minScale": 0,
 "maxScale": 0,
 "exportTilesAllowed": false,
 "hasMultidimensions": false,
 "supportsStatistics": false,
 "supportsAdvancedQueries": false,
 "editFieldsInfo": null,
 "ownershipBasedAccessControlForRasters": null,
 "allowComputeTiePoints": false,
 "useStandardizedQueries": true,
 "advancedQueryCapabilities": {
  "useStandardizedQueries": true,
  "supportsStatistics": false,
  "supportsOrderBy": false,
  "supportsDistinct": false,
  "supportsPagination": false
 },
 "spatialReference": {
  "wkid": 26912,
  "latestWkid": 26912
 }
}
