View In:
ArcGIS JavaScript
ArcGIS Online Map Viewer
ArcGIS Earth
ArcMap
View Footprint In:
ArcGIS Online Map Viewer
Service Description: Hazards/GroundshakingRaster
Name: Hazards/GroundshakingRaster
Description:
Single Fused Map Cache: false
Extent:
XMin: 208043.63461120083
YMin: 4075340.3275290458
XMax: 693706.8749689107
YMax: 4674324.990636936
Spatial Reference: 26912
(26912)
Initial Extent:
XMin: 208043.63461120083
YMin: 4075340.3275290458
XMax: 693706.8749689107
YMax: 4674324.990636936
Spatial Reference: 26912
(26912)
Full Extent:
XMin: 208043.63461120083
YMin: 4075340.3275290458
XMax: 693706.8749689107
YMax: 4674324.990636936
Spatial Reference: 26912
(26912)
Pixel Size X: 5396.258226196776
Pixel Size Y: 5396.258226197213
Band Count: 1
Pixel Type: F64
RasterFunction Infos: {"rasterFunctionInfos": [{
"name": "None",
"description": "",
"help": ""
}]}
Mensuration Capabilities: Basic
Has Histograms: true
Has Colormap: false
Has Multi Dimensions : false
Rendering Rule:
Min Scale: 0
Max Scale: 0
Copyright Text:
Service Data Type: esriImageServiceDataTypeGeneric
Min Values: 0.0767932
Max Values: 0.832107
Mean Values: 0.22095955201944154
Standard Deviation Values: 0.10070388786905003
Object ID Field:
Fields:
None
Default Mosaic Method: Center
Allowed Mosaic Methods:
SortField:
SortValue: null
Mosaic Operator: First
Default Compression Quality: 75
Default Resampling Method: Bilinear
Max Record Count: null
Max Image Height: 4100
Max Image Width: 15000
Max Download Image Count: null
Max Mosaic Image Count: null
Allow Raster Function: true
Allow Copy: null
Allow Analysis: null
Allow Compute TiePoints: false
Supports Statistics: false
Supports Advanced Queries: false
Use StandardizedQueries: true
Raster Type Infos:
Name: Raster Dataset
Description: Supports all ArcGIS Raster Datasets
Help:
Has Raster Attribute Table: false
Edit Fields Info: null
Ownership Based AccessControl For Rasters: null
Child Resources:
Info
Histograms
Key Properties
Legend
Raster Function Infos
Supported Operations:
Export Image
Identify
Measure
Compute Histograms
Compute Statistics Histograms
Get Samples
Compute Class Statistics
Query Boundary
Compute Pixel Location
Compute Angles
Validate
Project